BEGIN:VCALENDAR
VERSION:2.0
PRODID:-//Llandaff & Monmouth DACBR//NONSGML kigkonsult.se iCalcreator 2.41.92//
CALSCALE:GREGORIAN
METHOD:PUBLISH
UID:62623065-3630-4636-a233-356134636461
X-WR-CALNAME:iCagenda
X-WR-CALDESC:Event Management Extension for Joomla!
X-WR-RELCALID:3E26604A-50F4-4449-8B3E-E4F4932D05B5
X-WR-TIMEZONE:Europe/London
BEGIN:VTIMEZONE
TZID:Europe/London
TZUNTIL:20280326T010000Z
BEGIN:STANDARD
TZNAME:GMT
DTSTART:20251026T020000
TZOFFSETFROM:+0100
TZOFFSETTO:+0000
RDATE:20261025T020000
RDATE:20271031T020000
END:STANDARD
BEGIN:DAYLIGHT
TZNAME:BST
DTSTART:20260329T010000
TZOFFSETFROM:+0000
TZOFFSETTO:+0100
RDATE:20270328T010000
END:DAYLIGHT
END:VTIMEZONE
BEGIN:VEVENT
UID:38636638-6232-4666-b039-643262353835
DTSTAMP:20260421T125013Z
CATEGORIES:Association Events
CLASS:PUBLIC
DESCRIPTION;ALTREP="CID:<FFFF__=0ABBE548DFE235B58f9e8a93d@coffeebean.com>":
 Tower Open Day 2026On Monday 4th May 2026\, 18 towers across the Llandaff 
 and Monmouth branch areas will be open for ringers - starting in the east 
 at Magor (9:30am)\, and finishing in the west at Pen y Fai (6:30pm) - to r
 aise money for our Bell Restoration Fund.\nWe are planning to include the 
 newly augmented ring at Llantrisant\, and the privately owned ring at Pete
 rstone Wentloog as highlights of the day.\nTickets for the day will be £25
  (£20 in advance until 20th April)\, or £2 per individual tower.\nFor more
  information\, and to buy tickets in advance\, visit https://www.llanmonop
 enday.org.uk/\nContactsAnne Hayman: monmouthmaster@llanmon.org.ukPauline M
 orris: secretary@llanmon.org.uk
DTSTART:20260504T083000Z
DTEND:20260504T183000Z
GEO:+51.578381;-2.809664
LOCATION:18 open towers along M4 corridor\, Magor to Pen-Y-Fai.
ORGANIZER;CN=:mailto:secretary@llanmon.org.uk
SEQUENCE:1
SUMMARY:Tower Tour
TRANSP:OPAQUE
URL:https://llanmon.org.uk/events-list/tower-tour-may2026?layout=vcal
END:VEVENT
END:VCALENDAR
