BEGIN:VCALENDAR
VERSION:2.0
PRODID:-//Llandaff & Monmouth DACBR//NONSGML kigkonsult.se iCalcreator 2.41.92//
CALSCALE:GREGORIAN
METHOD:PUBLISH
UID:61336434-3337-4236-b835-396362396336
X-WR-CALNAME:iCagenda
X-WR-CALDESC:Event Management Extension for Joomla!
X-WR-RELCALID:3E26604A-50F4-4449-8B3E-E4F4932D05B5
X-WR-TIMEZONE:Europe/London
BEGIN:VTIMEZONE
TZID:Europe/London
END:VTIMEZONE
BEGIN:VEVENT
UID:63363961-3032-4335-b562-313364376561
DTSTAMP:20260421T125119Z
CATEGORIES:Monmouth Branch Events
CLASS:PUBLIC
DESCRIPTION;ALTREP="CID:<FFFF__=0ABBE548DFE235B58f9e8a93d@coffeebean.com>":
 Monmouth Branch Practice - all welcome!
DTSTART:20260321T140000Z
DTEND:20260321T160000Z
GEO:+51.702576;-2.900138
LOCATION:Usk
ORGANIZER;CN=:mailto:monmouthsec@llanmon.org.uk
SEQUENCE:1
SUMMARY:Monmouth Branch Practice
TRANSP:OPAQUE
URL:https://llanmon.org.uk/events-list/past-events/monmouth-branch-practice
 -mar2026?layout=vcal
END:VEVENT
END:VCALENDAR
