BEGIN:VCALENDAR
VERSION:2.0
PRODID:-//Llandaff & Monmouth DACBR//NONSGML kigkonsult.se iCalcreator 2.41.92//
CALSCALE:GREGORIAN
METHOD:PUBLISH
UID:62613561-3462-4462-b964-656637353037
X-WR-CALNAME:iCagenda
X-WR-CALDESC:Event Management Extension for Joomla!
X-WR-RELCALID:3E26604A-50F4-4449-8B3E-E4F4932D05B5
X-WR-TIMEZONE:Europe/London
BEGIN:VTIMEZONE
TZID:Europe/London
END:VTIMEZONE
BEGIN:VEVENT
UID:62326339-3665-4934-b063-643763383438
DTSTAMP:20260421T125114Z
CATEGORIES:Llandaff Branch Events
CLASS:PUBLIC
DESCRIPTION;ALTREP="CID:<FFFF__=0ABBE548DFE235B58f9e8a93d@coffeebean.com>":
 Llandaff Branch Practice.
DTSTART:20260306T193000Z
DTEND:20260306T210000Z
GEO:+51.742908;-3.378051
LOCATION:Merthyr Tydfil
ORGANIZER;CN=:mailto:llandaffsec@llanmon.org.uk
SEQUENCE:1
SUMMARY:Llandaff Branch Practice
TRANSP:OPAQUE
URL:https://llanmon.org.uk/events-list/past-events/llandaff-branch-practice
 -mar2026?layout=vcal
END:VEVENT
END:VCALENDAR
