BEGIN:VCALENDAR
VERSION:2.0
PRODID:-//Llandaff & Monmouth DACBR//NONSGML kigkonsult.se iCalcreator 2.41.92//
CALSCALE:GREGORIAN
METHOD:PUBLISH
UID:65613365-3465-4433-b764-393563333835
X-WR-CALNAME:iCagenda
X-WR-CALDESC:Event Management Extension for Joomla!
X-WR-RELCALID:3E26604A-50F4-4449-8B3E-E4F4932D05B5
X-WR-TIMEZONE:Europe/London
BEGIN:VTIMEZONE
TZID:Europe/London
END:VTIMEZONE
BEGIN:VEVENT
UID:33613830-3034-4032-a635-343233333861
DTSTAMP:20260421T125119Z
CATEGORIES:Llandaff Branch Events
CLASS:PUBLIC
DESCRIPTION;ALTREP="CID:<FFFF__=0ABBE548DFE235B58f9e8a93d@coffeebean.com>":
 Open practice - all welcome!
DTSTART:20260302T193000Z
DTEND:20260302T210000Z
GEO:+51.602501;-3.342211
LOCATION:Pontypridd
ORGANIZER;CN=:mailto:llandaff8bell@llanmon.org.uk
SEQUENCE:1
SUMMARY:Llandaff Branch 8-Bell Practice
TRANSP:OPAQUE
URL:https://llanmon.org.uk/events-list/past-events/llandaff-branch-8-bell-p
 ractice-mar2026?layout=vcal
END:VEVENT
END:VCALENDAR
