BEGIN:VCALENDAR
VERSION:2.0
PRODID:-//Llandaff & Monmouth DACBR//NONSGML kigkonsult.se iCalcreator 2.41.92//
CALSCALE:GREGORIAN
METHOD:PUBLISH
UID:37633666-6534-4136-a431-336138383266
X-WR-CALNAME:iCagenda
X-WR-CALDESC:Event Management Extension for Joomla!
X-WR-RELCALID:3E26604A-50F4-4449-8B3E-E4F4932D05B5
X-WR-TIMEZONE:Europe/London
BEGIN:VTIMEZONE
TZID:Europe/London
END:VTIMEZONE
BEGIN:VEVENT
UID:34333864-3231-4330-a334-633235356131
DTSTAMP:20260421T125113Z
CATEGORIES:Surprise Major Practices
CLASS:PUBLIC
DESCRIPTION;ALTREP="CID:<FFFF__=0ABBE548DFE235B58f9e8a93d@coffeebean.com>":
 Open Practice - all welcome!
DTSTART:20260318T193000Z
DTEND:20260318T210000Z
GEO:+51.578293;-3.044202
LOCATION:Bassaleg
ORGANIZER;CN=:mailto:major@llanmon.org.uk
SEQUENCE:1
SUMMARY:Association S Major Practice
TRANSP:OPAQUE
URL:https://llanmon.org.uk/events-list/past-events/association-s-major-prac
 tice-mar2026?layout=vcal
END:VEVENT
END:VCALENDAR
