BEGIN:VCALENDAR
VERSION:2.0
PRODID:-//Llandaff & Monmouth DACBR//NONSGML kigkonsult.se iCalcreator 2.41.92//
CALSCALE:GREGORIAN
METHOD:PUBLISH
UID:31383232-6263-4432-b765-663765336463
X-WR-CALNAME:iCagenda
X-WR-CALDESC:Event Management Extension for Joomla!
X-WR-RELCALID:3E26604A-50F4-4449-8B3E-E4F4932D05B5
X-WR-TIMEZONE:Europe/London
BEGIN:VTIMEZONE
TZID:Europe/London
END:VTIMEZONE
BEGIN:VEVENT
UID:62643164-3062-4163-b735-306132643432
DTSTAMP:20260421T125011Z
CATEGORIES:Daytime Practices
CLASS:PUBLIC
DESCRIPTION;ALTREP="CID:<FFFF__=0ABBE548DFE235B58f9e8a93d@coffeebean.com>":
 Open practice - all welcome!
DTSTART:20260327T103000Z
DTEND:20260327T123000Z
GEO:+51.665478;-2.906388
LOCATION:Llangybi
ORGANIZER;CN=:mailto:daytime@llanmon.org.uk
SEQUENCE:1
SUMMARY:Association Daytime Practice CANCELLED
TRANSP:OPAQUE
URL:https://llanmon.org.uk/events-list/past-events/association-daytime-prac
 tice-mar2026?layout=vcal
END:VEVENT
END:VCALENDAR
