BEGIN:VCALENDAR
VERSION:2.0
PRODID:-//Llandaff & Monmouth DACBR//NONSGML kigkonsult.se iCalcreator 2.41.92//
CALSCALE:GREGORIAN
METHOD:PUBLISH
UID:62393839-6562-4234-b162-386539396661
X-WR-CALNAME:iCagenda
X-WR-CALDESC:Event Management Extension for Joomla!
X-WR-RELCALID:3E26604A-50F4-4449-8B3E-E4F4932D05B5
X-WR-TIMEZONE:Europe/London
BEGIN:VTIMEZONE
TZID:Europe/London
END:VTIMEZONE
BEGIN:VEVENT
UID:63353839-6635-4236-b366-633863643864
DTSTAMP:20260421T125113Z
CATEGORIES:12-Bell Practices
CLASS:PUBLIC
DESCRIPTION;ALTREP="CID:<FFFF__=0ABBE548DFE235B58f9e8a93d@coffeebean.com>":
 Llandaff Cathedral
DTSTART:20260328T100000Z
DTEND:20260328T113000Z
GEO:+51.495747;-3.217854
LOCATION:Llandaff Cathedral
ORGANIZER;CN=:mailto:12bell@llanmon.org.uk
SEQUENCE:1
SUMMARY:Association 12-Bell Practice
TRANSP:OPAQUE
URL:https://llanmon.org.uk/events-list/past-events/association-12-bell-prac
 tice-mar2026?layout=vcal
END:VEVENT
END:VCALENDAR
