BEGIN:VCALENDAR
VERSION:2.0
PRODID:-//Llandaff & Monmouth DACBR//NONSGML kigkonsult.se iCalcreator 2.41.92//
CALSCALE:GREGORIAN
METHOD:PUBLISH
UID:63613736-6537-4065-b233-623334313239
X-WR-CALNAME:iCagenda
X-WR-CALDESC:Event Management Extension for Joomla!
X-WR-RELCALID:3E26604A-50F4-4449-8B3E-E4F4932D05B5
X-WR-TIMEZONE:Europe/London
BEGIN:VTIMEZONE
TZID:Europe/London
TZUNTIL:20281029T010000Z
BEGIN:STANDARD
TZNAME:GMT
DTSTART:20251026T020000
TZOFFSETFROM:+0100
TZOFFSETTO:+0000
RDATE:20261025T020000
RDATE:20271031T020000
END:STANDARD
BEGIN:DAYLIGHT
TZNAME:BST
DTSTART:20260329T010000
TZOFFSETFROM:+0000
TZOFFSETTO:+0100
RDATE:20270328T010000
RDATE:20280326T010000
END:DAYLIGHT
END:VTIMEZONE
BEGIN:VEVENT
UID:37396561-6564-4234-b735-373232633136
DTSTAMP:20260421T143038Z
CATEGORIES:Monmouth Branch Events
CLASS:PUBLIC
DESCRIPTION;ALTREP="CID:<FFFF__=0ABBE548DFE235B58f9e8a93d@coffeebean.com>":
 Monmouth Branch Training Day. Details tbc.
DTSTART:20261017T083000Z
DTEND:20261017T113000Z
GEO:+51.583088;-2.99854
LOCATION:Venue tbc
ORGANIZER;CN=:mailto:monmouthtraining@llanmon.org.uk
SEQUENCE:1
SUMMARY:Monmouth Branch Training Day
TRANSP:OPAQUE
URL:https://llanmon.org.uk/events-list/monmouth-branch-training-day-oct2026
 ?layout=vcal
END:VEVENT
END:VCALENDAR
