BEGIN:VCALENDAR
VERSION:2.0
PRODID:-//Llandaff & Monmouth DACBR//NONSGML kigkonsult.se iCalcreator 2.41.92//
CALSCALE:GREGORIAN
METHOD:PUBLISH
UID:37363261-3236-4731-a563-356636663462
X-WR-CALNAME:iCagenda
X-WR-CALDESC:Event Management Extension for Joomla!
X-WR-RELCALID:3E26604A-50F4-4449-8B3E-E4F4932D05B5
X-WR-TIMEZONE:Europe/London
BEGIN:VTIMEZONE
TZID:Europe/London
TZUNTIL:20280326T010000Z
BEGIN:STANDARD
TZNAME:GMT
DTSTART:20251026T020000
TZOFFSETFROM:+0100
TZOFFSETTO:+0000
RDATE:20261025T020000
RDATE:20271031T020000
END:STANDARD
BEGIN:DAYLIGHT
TZNAME:BST
DTSTART:20260329T010000
TZOFFSETFROM:+0000
TZOFFSETTO:+0100
RDATE:20270328T010000
END:DAYLIGHT
END:VTIMEZONE
BEGIN:VEVENT
UID:66666439-3933-4239-b464-376366643836
DTSTAMP:20260421T125112Z
CATEGORIES:Monmouth Branch Events
CLASS:PUBLIC
DESCRIPTION;ALTREP="CID:<FFFF__=0ABBE548DFE235B58f9e8a93d@coffeebean.com>":
 Monmouth Branch Striking Competition
DTSTART:20260516T140000Z
DTEND:20260516T180000Z
GEO:+51.614742;-2.69008
LOCATION:Mathern
ORGANIZER;CN=:mailto:monmouthsec@llanmon.org.uk
SEQUENCE:1
SUMMARY:Monmouth Branch Striking Competition
TRANSP:OPAQUE
URL:https://llanmon.org.uk/events-list/monmouth-branch-striking-competition
 -2026?layout=vcal
END:VEVENT
END:VCALENDAR
