BEGIN:VCALENDAR
VERSION:2.0
PRODID:-//Llandaff & Monmouth DACBR//NONSGML kigkonsult.se iCalcreator 2.41.92//
CALSCALE:GREGORIAN
METHOD:PUBLISH
UID:33616566-3432-4033-b963-663136636464
X-WR-CALNAME:iCagenda
X-WR-CALDESC:Event Management Extension for Joomla!
X-WR-RELCALID:3E26604A-50F4-4449-8B3E-E4F4932D05B5
X-WR-TIMEZONE:Europe/London
BEGIN:VTIMEZONE
TZID:Europe/London
END:VTIMEZONE
BEGIN:VEVENT
UID:64336136-3632-4334-b734-613165633437
DTSTAMP:20260421T143031Z
CATEGORIES:Monmouth Branch Events
CLASS:PUBLIC
DESCRIPTION;ALTREP="CID:<FFFF__=0ABBE548DFE235B58f9e8a93d@coffeebean.com>":
 Monmouth Branch Practice. All Welcome!
DTSTART:20261121T140000Z
DTEND:20261121T160000Z
GEO:+51.822224;-3.015223
LOCATION:Abergavenny
ORGANIZER;CN=:mailto:monmouthsec@llanmon.org.uk
SEQUENCE:1
SUMMARY:Monmouth Branch Practice
TRANSP:OPAQUE
URL:https://llanmon.org.uk/events-list/monmouth-branch-practice-nov2026?lay
 out=vcal
END:VEVENT
END:VCALENDAR
