BEGIN:VCALENDAR
VERSION:2.0
PRODID:-//Llandaff & Monmouth DACBR//NONSGML kigkonsult.se iCalcreator 2.41.92//
CALSCALE:GREGORIAN
METHOD:PUBLISH
UID:38386134-3233-4934-b963-376238343761
X-WR-CALNAME:iCagenda
X-WR-CALDESC:Event Management Extension for Joomla!
X-WR-RELCALID:3E26604A-50F4-4449-8B3E-E4F4932D05B5
X-WR-TIMEZONE:Europe/London
BEGIN:VTIMEZONE
TZID:Europe/London
END:VTIMEZONE
BEGIN:VEVENT
UID:64386635-3739-4465-a665-636432323237
DTSTAMP:20260421T142948Z
CATEGORIES:Monmouth Branch Events
CLASS:PUBLIC
DESCRIPTION;ALTREP="CID:<FFFF__=0ABBE548DFE235B58f9e8a93d@coffeebean.com>":
 Monmouth Branch Practice. All Welcome!
DTSTART:20261212T100000Z
DTEND:20261212T120000Z
GEO:+51.505508;-3.133373
LOCATION:Rumney
ORGANIZER;CN=:mailto:monmouthsec@llanmon.org.uk
SEQUENCE:1
SUMMARY:Monmouth Branch Practice
TRANSP:OPAQUE
URL:https://llanmon.org.uk/events-list/monmouth-branch-practice-dec2026?lay
 out=vcal
END:VEVENT
END:VCALENDAR
