BEGIN:VCALENDAR
VERSION:2.0
PRODID:-//Llandaff & Monmouth DACBR//NONSGML kigkonsult.se iCalcreator 2.41.92//
CALSCALE:GREGORIAN
METHOD:PUBLISH
UID:61396338-3565-4639-a637-313638373362
X-WR-CALNAME:iCagenda
X-WR-CALDESC:Event Management Extension for Joomla!
X-WR-RELCALID:3E26604A-50F4-4449-8B3E-E4F4932D05B5
X-WR-TIMEZONE:Europe/London
BEGIN:VTIMEZONE
TZID:Europe/London
END:VTIMEZONE
BEGIN:VEVENT
UID:64636266-6563-4633-a335-346132623238
DTSTAMP:20260421T143057Z
CATEGORIES:Monmouth Branch Events
CLASS:PUBLIC
DESCRIPTION;ALTREP="CID:<FFFF__=0ABBE548DFE235B58f9e8a93d@coffeebean.com>":
 Monmouth Branch AGM. All Welcome!
DTSTART:20270116T150000Z
DTEND:20270116T190000Z
GEO:+51.772633;-3.086624
LOCATION:Blaenavon
ORGANIZER;CN=:mailto:monmouthsec@llanmon.org.uk
SEQUENCE:1
SUMMARY:Monmouth Branch AGM
TRANSP:OPAQUE
URL:https://llanmon.org.uk/events-list/monmouth-branch-agm-jan2027?layout=v
 cal
END:VEVENT
END:VCALENDAR
