BEGIN:VCALENDAR
VERSION:2.0
PRODID:-//Llandaff & Monmouth DACBR//NONSGML kigkonsult.se iCalcreator 2.41.92//
CALSCALE:GREGORIAN
METHOD:PUBLISH
UID:33613363-6433-4334-a630-613635666331
X-WR-CALNAME:iCagenda
X-WR-CALDESC:Event Management Extension for Joomla!
X-WR-RELCALID:3E26604A-50F4-4449-8B3E-E4F4932D05B5
X-WR-TIMEZONE:Europe/London
BEGIN:VTIMEZONE
TZID:Europe/London
END:VTIMEZONE
BEGIN:VEVENT
UID:37643864-6534-4664-b361-646465646562
DTSTAMP:20260421T143137Z
CATEGORIES:Monmouth Branch Events
CLASS:PUBLIC
DESCRIPTION;ALTREP="CID:<FFFF__=0ABBE548DFE235B58f9e8a93d@coffeebean.com>":
 Open practice - all welcome!
DTSTART:20261112T193000Z
DTEND:20261112T210000Z
GEO:+51.702576;-2.900138
LOCATION:Usk
ORGANIZER;CN=:mailto:monmouth8bell@llanmon.org.uk
SEQUENCE:1
SUMMARY:Monmouth Branch 8-Bell Practice
TRANSP:OPAQUE
URL:https://llanmon.org.uk/events-list/monmouth-branch-8-bell-practice-nov2
 026?layout=vcal
END:VEVENT
END:VCALENDAR
