BEGIN:VCALENDAR
VERSION:2.0
PRODID:-//Llandaff & Monmouth DACBR//NONSGML kigkonsult.se iCalcreator 2.41.92//
CALSCALE:GREGORIAN
METHOD:PUBLISH
UID:62623339-6432-4561-a436-303565316539
X-WR-CALNAME:iCagenda
X-WR-CALDESC:Event Management Extension for Joomla!
X-WR-RELCALID:3E26604A-50F4-4449-8B3E-E4F4932D05B5
X-WR-TIMEZONE:Europe/London
BEGIN:VTIMEZONE
TZID:Europe/London
TZUNTIL:20280326T010000Z
BEGIN:STANDARD
TZNAME:GMT
DTSTART:20251026T020000
TZOFFSETFROM:+0100
TZOFFSETTO:+0000
RDATE:20261025T020000
RDATE:20271031T020000
END:STANDARD
BEGIN:DAYLIGHT
TZNAME:BST
DTSTART:20260329T010000
TZOFFSETFROM:+0000
TZOFFSETTO:+0100
RDATE:20270328T010000
END:DAYLIGHT
END:VTIMEZONE
BEGIN:VEVENT
UID:36353539-3863-4563-b937-386234343033
DTSTAMP:20260421T125113Z
CATEGORIES:Monmouth Branch Events
CLASS:PUBLIC
DESCRIPTION;ALTREP="CID:<FFFF__=0ABBE548DFE235B58f9e8a93d@coffeebean.com>":
 Open practice - all welcome!
DTSTART:20260514T183000Z
DTEND:20260514T200000Z
GEO:+51.702576;-2.900138
LOCATION:Usk
ORGANIZER;CN=:mailto:monmouth8bell@llanmon.org.uk
SEQUENCE:1
SUMMARY:Monmouth Branch 8-Bell Practice
TRANSP:OPAQUE
URL:https://llanmon.org.uk/events-list/monmouth-branch-8-bell-practice-may2
 026?layout=vcal
END:VEVENT
END:VCALENDAR
