BEGIN:VCALENDAR
VERSION:2.0
PRODID:-//Llandaff & Monmouth DACBR//NONSGML kigkonsult.se iCalcreator 2.41.92//
CALSCALE:GREGORIAN
METHOD:PUBLISH
UID:61636233-6537-4762-a534-663134646238
X-WR-CALNAME:iCagenda
X-WR-CALDESC:Event Management Extension for Joomla!
X-WR-RELCALID:3E26604A-50F4-4449-8B3E-E4F4932D05B5
X-WR-TIMEZONE:Europe/London
BEGIN:VTIMEZONE
TZID:Europe/London
END:VTIMEZONE
BEGIN:VEVENT
UID:38346565-3135-4461-b639-333163306638
DTSTAMP:20260421T142838Z
CATEGORIES:Llandaff Branch Events
CLASS:PUBLIC
DESCRIPTION;ALTREP="CID:<FFFF__=0ABBE548DFE235B58f9e8a93d@coffeebean.com>":
 Llandaff Branch Practice.
DTSTART:20261205T143000Z
DTEND:20261205T163000Z
GEO:+51.672855;-3.800682
LOCATION:Cadoxton-juxta-Neath
ORGANIZER;CN=:mailto:llandaffsec@llanmon.org.uk
SEQUENCE:1
SUMMARY:Llandaff Branch Practice
TRANSP:OPAQUE
URL:https://llanmon.org.uk/events-list/llandaff-branch-practice-dec2026?lay
 out=vcal
END:VEVENT
END:VCALENDAR
