BEGIN:VCALENDAR
VERSION:2.0
PRODID:-//Llandaff & Monmouth DACBR//NONSGML kigkonsult.se iCalcreator 2.41.92//
CALSCALE:GREGORIAN
METHOD:PUBLISH
UID:35633634-3161-4339-a361-633835613661
X-WR-CALNAME:iCagenda
X-WR-CALDESC:Event Management Extension for Joomla!
X-WR-RELCALID:3E26604A-50F4-4449-8B3E-E4F4932D05B5
X-WR-TIMEZONE:Europe/London
BEGIN:VTIMEZONE
TZID:Europe/London
END:VTIMEZONE
BEGIN:VEVENT
UID:37666532-3165-4239-b539-613732396438
DTSTAMP:20260421T143040Z
CATEGORIES:Llandaff Branch Events
CLASS:PUBLIC
DESCRIPTION;ALTREP="CID:<FFFF__=0ABBE548DFE235B58f9e8a93d@coffeebean.com>":
 General Practice - all welcome!  On the simulator.
DTSTART:20261102T193000Z
DTEND:20261102T210000Z
GEO:+51.441536;-3.169097
LOCATION:Penarth
ORGANIZER;CN=:mailto:llandaff8bell@llanmon.org.uk
SEQUENCE:1
SUMMARY:Llandaff Branch 8-Bell Practice
TRANSP:OPAQUE
URL:https://llanmon.org.uk/events-list/llandaff-branch-8-bell-practice-nov2
 026?layout=vcal
END:VEVENT
END:VCALENDAR
