BEGIN:VCALENDAR
VERSION:2.0
PRODID:-//Llandaff & Monmouth DACBR//NONSGML kigkonsult.se iCalcreator 2.41.92//
CALSCALE:GREGORIAN
METHOD:PUBLISH
UID:63626531-3833-4462-b563-656535663766
X-WR-CALNAME:iCagenda
X-WR-CALDESC:Event Management Extension for Joomla!
X-WR-RELCALID:3E26604A-50F4-4449-8B3E-E4F4932D05B5
X-WR-TIMEZONE:Europe/London
BEGIN:VTIMEZONE
TZID:Europe/London
TZUNTIL:20280326T010000Z
BEGIN:STANDARD
TZNAME:GMT
DTSTART:20251026T020000
TZOFFSETFROM:+0100
TZOFFSETTO:+0000
RDATE:20261025T020000
RDATE:20271031T020000
END:STANDARD
BEGIN:DAYLIGHT
TZNAME:BST
DTSTART:20260329T010000
TZOFFSETFROM:+0000
TZOFFSETTO:+0100
RDATE:20270328T010000
END:DAYLIGHT
END:VTIMEZONE
BEGIN:VEVENT
UID:30373162-3633-4362-b730-376632313835
DTSTAMP:20260421T125012Z
CATEGORIES:Llandaff Branch Events
CLASS:PUBLIC
DESCRIPTION;ALTREP="CID:<FFFF__=0ABBE548DFE235B58f9e8a93d@coffeebean.com>":
 Open practice - all welcome!
DTSTART:20260608T183000Z
DTEND:20260608T200000Z
GEO:+51.571117;-3.220081
LOCATION:Caerphilly (tbc)
ORGANIZER;CN=:mailto:llandaff8bell@llanmon.org.uk
SEQUENCE:1
SUMMARY:Llandaff Branch 8-Bell Practice
TRANSP:OPAQUE
URL:https://llanmon.org.uk/events-list/llandaff-branch-8-bell-practice-jun2
 026?layout=vcal
END:VEVENT
END:VCALENDAR
