BEGIN:VCALENDAR
VERSION:2.0
PRODID:-//Llandaff & Monmouth DACBR//NONSGML kigkonsult.se iCalcreator 2.41.92//
CALSCALE:GREGORIAN
METHOD:PUBLISH
UID:61393662-3163-4036-a331-343965373535
X-WR-CALNAME:iCagenda
X-WR-CALDESC:Event Management Extension for Joomla!
X-WR-RELCALID:3E26604A-50F4-4449-8B3E-E4F4932D05B5
X-WR-TIMEZONE:Europe/London
BEGIN:VTIMEZONE
TZID:Europe/London
END:VTIMEZONE
BEGIN:VEVENT
UID:35396637-3834-4630-b164-303732306535
DTSTAMP:20260421T142947Z
CATEGORIES:Llandaff Branch Events
CLASS:PUBLIC
DESCRIPTION;ALTREP="CID:<FFFF__=0ABBE548DFE235B58f9e8a93d@coffeebean.com>":
 Open practice - all welcome!
DTSTART:20261207T193000Z
DTEND:20261207T210000Z
GEO:+51.602501;-3.342211
LOCATION:Pontypridd
ORGANIZER;CN=:mailto:llandaff8bell@llanmon.org.uk
SEQUENCE:1
SUMMARY:Llandaff Branch 8-Bell Practice
TRANSP:OPAQUE
URL:https://llanmon.org.uk/events-list/llandaff-branch-8-bell-practice-dec2
 026?layout=vcal
END:VEVENT
END:VCALENDAR
