BEGIN:VCALENDAR
VERSION:2.0
PRODID:-//Llandaff & Monmouth DACBR//NONSGML kigkonsult.se iCalcreator 2.41.92//
CALSCALE:GREGORIAN
METHOD:PUBLISH
UID:33653466-3865-4236-a461-313163353734
X-WR-CALNAME:iCagenda
X-WR-CALDESC:Event Management Extension for Joomla!
X-WR-RELCALID:3E26604A-50F4-4449-8B3E-E4F4932D05B5
X-WR-TIMEZONE:Europe/London
BEGIN:VTIMEZONE
TZID:Europe/London
END:VTIMEZONE
BEGIN:VEVENT
UID:34316562-3331-4661-a366-636631383736
DTSTAMP:20260421T142836Z
CATEGORIES:Surprise Major Practices
CLASS:PUBLIC
DESCRIPTION;ALTREP="CID:<FFFF__=0ABBE548DFE235B58f9e8a93d@coffeebean.com>":
 Open practice - all welcome!
DTSTART:20261221T193000Z
DTEND:20261221T210000Z
GEO:+51.513256;-3.221103
LOCATION:Whitchurch (tbc)
ORGANIZER;CN=:mailto:major@llanmon.org.uk
SEQUENCE:1
SUMMARY:Association S Major Practice
TRANSP:OPAQUE
URL:https://llanmon.org.uk/events-list/association-s-major-practice-dec2026
 ?layout=vcal
END:VEVENT
END:VCALENDAR
