BEGIN:VCALENDAR
VERSION:2.0
PRODID:-//Llandaff & Monmouth DACBR//NONSGML kigkonsult.se iCalcreator 2.41.92//
CALSCALE:GREGORIAN
METHOD:PUBLISH
UID:35343835-6235-4434-b436-633637313763
X-WR-CALNAME:iCagenda
X-WR-CALDESC:Event Management Extension for Joomla!
X-WR-RELCALID:3E26604A-50F4-4449-8B3E-E4F4932D05B5
X-WR-TIMEZONE:Europe/London
BEGIN:VTIMEZONE
TZID:Europe/London
END:VTIMEZONE
BEGIN:VEVENT
UID:38363464-3566-4533-a534-373963646464
DTSTAMP:20260421T142839Z
CATEGORIES:Daytime Practices
CLASS:PUBLIC
DESCRIPTION;ALTREP="CID:<FFFF__=0ABBE548DFE235B58f9e8a93d@coffeebean.com>":
 Open practice - all welcome!
DTSTART:20261030T103000Z
DTEND:20261030T123000Z
GEO:+51.571117;-3.220081
LOCATION:Caerphilly
ORGANIZER;CN=:mailto:daytime@llanmon.org.uk
SEQUENCE:1
SUMMARY:Association Daytime Practice
TRANSP:OPAQUE
URL:https://llanmon.org.uk/events-list/association-daytime-practice-oct2026
 ?layout=vcal
END:VEVENT
END:VCALENDAR
